BEGIN:VCALENDAR
VERSION:2.0
PRODID:-//hacksw/handcal//NONSGML v1.0//EN
BEGIN:VEVENT
SUMMARY:TAE Toulon
UID:228fbac6-9283-467d-a2ed-abcee1c9f8c1
DTSTART:20260424T220000Z
DTEND:20260426T220000Z
LOCATION:Localisation   
CATEGORIES:Sportif
STATUS:
URL;VALUE=URI:https://lesarchersdepierrefeu.sportsregions.fr/evenements/2026/04/25/tae-toulon-2436543
END:VEVENT
END:VCALENDAR
